BEGIN:VCALENDAR
VERSION:2.0
PRODID:-//PNC Fairfax Connection - ECPv6.15.18//NONSGML v1.0//EN
CALSCALE:GREGORIAN
METHOD:PUBLISH
X-WR-CALNAME:PNC Fairfax Connection
X-ORIGINAL-URL:https://www.pncfairfaxconnection.com
X-WR-CALDESC:Events for PNC Fairfax Connection
REFRESH-INTERVAL;VALUE=DURATION:PT1H
X-Robots-Tag:noindex
X-PUBLISHED-TTL:PT1H
BEGIN:VTIMEZONE
TZID:America/New_York
BEGIN:DAYLIGHT
TZOFFSETFROM:-0500
TZOFFSETTO:-0400
TZNAME:EDT
DTSTART:20250309T070000
END:DAYLIGHT
BEGIN:STANDARD
TZOFFSETFROM:-0400
TZOFFSETTO:-0500
TZNAME:EST
DTSTART:20251102T060000
END:STANDARD
BEGIN:DAYLIGHT
TZOFFSETFROM:-0500
TZOFFSETTO:-0400
TZNAME:EDT
DTSTART:20260308T070000
END:DAYLIGHT
BEGIN:STANDARD
TZOFFSETFROM:-0400
TZOFFSETTO:-0500
TZNAME:EST
DTSTART:20261101T060000
END:STANDARD
BEGIN:DAYLIGHT
TZOFFSETFROM:-0500
TZOFFSETTO:-0400
TZNAME:EDT
DTSTART:20270314T070000
END:DAYLIGHT
BEGIN:STANDARD
TZOFFSETFROM:-0400
TZOFFSETTO:-0500
TZNAME:EST
DTSTART:20271107T060000
END:STANDARD
END:VTIMEZONE
BEGIN:VEVENT
DTSTART;TZID=America/New_York:20260421T130000
DTEND;TZID=America/New_York:20260421T150000
DTSTAMP:20260422T071659
CREATED:20260219T202710Z
LAST-MODIFIED:20260313T134227Z
UID:10006660-1776776400-1776783600@www.pncfairfaxconnection.com
SUMMARY:Computers 101
DESCRIPTION:This 8-week program will provide you with an introduction to laptops and desktops\, understanding mobile apps\, and safe internet navigation. This workshop is designed to help seniors and adults learn basic computer skills.
URL:https://www.pncfairfaxconnection.com/program/computers-101/2026-04-21/
LOCATION:PNC Fairfax Connection\, 8220 Carnegie Avenue\, Cleveland\, OH\, 44103\, United States
CATEGORIES:General Education,PNC Fairfax Connection
ATTACH;FMTTYPE=image/png:https://www.pncfairfaxconnection.com/wp-content/uploads/2023/09/Computers101_FeaturedImage.png
GEO:41.5009711;-81.6299203
X-APPLE-STRUCTURED-LOCATION;VALUE=URI;X-ADDRESS=PNC Fairfax Connection 8220 Carnegie Avenue Cleveland OH 44103 United States;X-APPLE-RADIUS=500;X-TITLE=8220 Carnegie Avenue:geo:-81.6299203,41.5009711
END:VEVENT
BEGIN:VEVENT
DTSTART;TZID=America/New_York:20260421T160000
DTEND;TZID=America/New_York:20260421T170000
DTSTAMP:20260422T071659
CREATED:20260326T163334Z
LAST-MODIFIED:20260326T163334Z
UID:10006756-1776787200-1776790800@www.pncfairfaxconnection.com
SUMMARY:The Fairfax Chess Club
DESCRIPTION:The game of chess encourages players to think critically and improve concentration. Our instructors from Progress with Chess will teach you the fundamentals of the game and help you hone your skills. This program is designed to introduce youth to chess\, but all ages are welcome.
URL:https://www.pncfairfaxconnection.com/program/the-fairfax-chess-club-4/
LOCATION:PNC Fairfax Connection\, 8220 Carnegie Avenue\, Cleveland\, OH\, 44103\, United States
CATEGORIES:Arts & Culture,PNC Fairfax Connection
ATTACH;FMTTYPE=image/png:https://www.pncfairfaxconnection.com/wp-content/uploads/2025/01/Fairfax-Chess-Club-1.png
GEO:41.5009711;-81.6299203
X-APPLE-STRUCTURED-LOCATION;VALUE=URI;X-ADDRESS=PNC Fairfax Connection 8220 Carnegie Avenue Cleveland OH 44103 United States;X-APPLE-RADIUS=500;X-TITLE=8220 Carnegie Avenue:geo:-81.6299203,41.5009711
END:VEVENT
BEGIN:VEVENT
DTSTART;TZID=America/New_York:20260421T170000
DTEND;TZID=America/New_York:20260421T183000
DTSTAMP:20260422T071659
CREATED:20260326T164227Z
LAST-MODIFIED:20260326T164227Z
UID:10006759-1776790800-1776796200@www.pncfairfaxconnection.com
SUMMARY:Robotics On the Go
DESCRIPTION:Discover the fascinating world of science and technology! Youth will participate in activities that include building robots\, designing structures\, exploring STEM careers\, and more. Come have fun while engaging with project-based learning. For youth in grades 5-10.
URL:https://www.pncfairfaxconnection.com/program/robotics-on-the-go-2/
LOCATION:PNC Fairfax Connection\, 8220 Carnegie Avenue\, Cleveland\, OH\, 44103\, United States
CATEGORIES:PNC Fairfax Connection,Technology
ATTACH;FMTTYPE=image/png:https://www.pncfairfaxconnection.com/wp-content/uploads/2025/01/Robotics-on-the-Go.png
GEO:41.5009711;-81.6299203
X-APPLE-STRUCTURED-LOCATION;VALUE=URI;X-ADDRESS=PNC Fairfax Connection 8220 Carnegie Avenue Cleveland OH 44103 United States;X-APPLE-RADIUS=500;X-TITLE=8220 Carnegie Avenue:geo:-81.6299203,41.5009711
END:VEVENT
BEGIN:VEVENT
DTSTART;TZID=America/New_York:20260421T173000
DTEND;TZID=America/New_York:20260421T183000
DTSTAMP:20260422T071659
CREATED:20260326T171336Z
LAST-MODIFIED:20260326T171336Z
UID:10006763-1776792600-1776796200@www.pncfairfaxconnection.com
SUMMARY:Content Creation for Beginners
DESCRIPTION:Learn the basics of content creation with YouTuber Tatiana Ali. This workshop covers camera setup\, lighting\, sound and editing\, plus tips for planning content and optimizing it for social media. Walk away with practical skills to create polished\, engaging videos from start to finish.
URL:https://www.pncfairfaxconnection.com/program/content-creation-for-beginners-3/
LOCATION:PNC Fairfax Connection\, 8220 Carnegie Avenue\, Cleveland\, OH\, 44103\, United States
CATEGORIES:General Education,PNC Fairfax Connection
ATTACH;FMTTYPE=application/pdf:https://www.pncfairfaxconnection.com/wp-content/uploads/2026/03/Feature-Images-6.pdf
GEO:41.5009711;-81.6299203
X-APPLE-STRUCTURED-LOCATION;VALUE=URI;X-ADDRESS=PNC Fairfax Connection 8220 Carnegie Avenue Cleveland OH 44103 United States;X-APPLE-RADIUS=500;X-TITLE=8220 Carnegie Avenue:geo:-81.6299203,41.5009711
END:VEVENT
END:VCALENDAR