BEGIN:VCALENDAR
VERSION:2.0
PRODID:-//PNC Fairfax Connection - ECPv6.15.18//NONSGML v1.0//EN
CALSCALE:GREGORIAN
METHOD:PUBLISH
X-ORIGINAL-URL:https://www.pncfairfaxconnection.com
X-WR-CALDESC:Events for PNC Fairfax Connection
REFRESH-INTERVAL;VALUE=DURATION:PT1H
X-Robots-Tag:noindex
X-PUBLISHED-TTL:PT1H
BEGIN:VTIMEZONE
TZID:America/New_York
BEGIN:DAYLIGHT
TZOFFSETFROM:-0500
TZOFFSETTO:-0400
TZNAME:EDT
DTSTART:20250309T070000
END:DAYLIGHT
BEGIN:STANDARD
TZOFFSETFROM:-0400
TZOFFSETTO:-0500
TZNAME:EST
DTSTART:20251102T060000
END:STANDARD
BEGIN:DAYLIGHT
TZOFFSETFROM:-0500
TZOFFSETTO:-0400
TZNAME:EDT
DTSTART:20260308T070000
END:DAYLIGHT
BEGIN:STANDARD
TZOFFSETFROM:-0400
TZOFFSETTO:-0500
TZNAME:EST
DTSTART:20261101T060000
END:STANDARD
BEGIN:DAYLIGHT
TZOFFSETFROM:-0500
TZOFFSETTO:-0400
TZNAME:EDT
DTSTART:20270314T070000
END:DAYLIGHT
BEGIN:STANDARD
TZOFFSETFROM:-0400
TZOFFSETTO:-0500
TZNAME:EST
DTSTART:20271107T060000
END:STANDARD
END:VTIMEZONE
BEGIN:VEVENT
DTSTART;TZID=America/New_York:20260618T130000
DTEND;TZID=America/New_York:20260618T150000
DTSTAMP:20260425T113943
CREATED:20260424T191906Z
LAST-MODIFIED:20260424T191906Z
UID:10006906-1781787600-1781794800@www.pncfairfaxconnection.com
SUMMARY:Computers 101
DESCRIPTION:This 8-week program provide you with an introduction to laptops and desktops\, understanding mobile apps\, and safe interent navigation. This workshop is designed to help seniors and adults learn basic computer skills.
URL:https://www.pncfairfaxconnection.com/program/computers-101-15/
LOCATION:PNC Fairfax Connection\, 8220 Carnegie Avenue\, Cleveland\, OH\, 44103\, United States
CATEGORIES:PNC Fairfax Connection,Technology
ATTACH;FMTTYPE=image/png:https://www.pncfairfaxconnection.com/wp-content/uploads/2023/12/Computers-101-1.png
GEO:41.5009711;-81.6299203
X-APPLE-STRUCTURED-LOCATION;VALUE=URI;X-ADDRESS=PNC Fairfax Connection 8220 Carnegie Avenue Cleveland OH 44103 United States;X-APPLE-RADIUS=500;X-TITLE=8220 Carnegie Avenue:geo:-81.6299203,41.5009711
END:VEVENT
BEGIN:VEVENT
DTSTART;TZID=America/New_York:20260623T130000
DTEND;TZID=America/New_York:20260623T150000
DTSTAMP:20260425T113943
CREATED:20260424T191925Z
LAST-MODIFIED:20260424T191925Z
UID:10006907-1782219600-1782226800@www.pncfairfaxconnection.com
SUMMARY:Computers 101
DESCRIPTION:This 8-week program provide you with an introduction to laptops and desktops\, understanding mobile apps\, and safe interent navigation. This workshop is designed to help seniors and adults learn basic computer skills.
URL:https://www.pncfairfaxconnection.com/program/computers-101-16/
LOCATION:PNC Fairfax Connection\, 8220 Carnegie Avenue\, Cleveland\, OH\, 44103\, United States
CATEGORIES:PNC Fairfax Connection,Technology
ATTACH;FMTTYPE=image/png:https://www.pncfairfaxconnection.com/wp-content/uploads/2023/12/Computers-101-1.png
GEO:41.5009711;-81.6299203
X-APPLE-STRUCTURED-LOCATION;VALUE=URI;X-ADDRESS=PNC Fairfax Connection 8220 Carnegie Avenue Cleveland OH 44103 United States;X-APPLE-RADIUS=500;X-TITLE=8220 Carnegie Avenue:geo:-81.6299203,41.5009711
END:VEVENT
BEGIN:VEVENT
DTSTART;TZID=America/New_York:20260625T130000
DTEND;TZID=America/New_York:20260625T150000
DTSTAMP:20260425T113943
CREATED:20260424T191944Z
LAST-MODIFIED:20260424T191944Z
UID:10006908-1782392400-1782399600@www.pncfairfaxconnection.com
SUMMARY:Computers 101
DESCRIPTION:This 8-week program provide you with an introduction to laptops and desktops\, understanding mobile apps\, and safe interent navigation. This workshop is designed to help seniors and adults learn basic computer skills.
URL:https://www.pncfairfaxconnection.com/program/computers-101-17/
LOCATION:PNC Fairfax Connection\, 8220 Carnegie Avenue\, Cleveland\, OH\, 44103\, United States
CATEGORIES:PNC Fairfax Connection,Technology
ATTACH;FMTTYPE=image/png:https://www.pncfairfaxconnection.com/wp-content/uploads/2023/12/Computers-101-1.png
GEO:41.5009711;-81.6299203
X-APPLE-STRUCTURED-LOCATION;VALUE=URI;X-ADDRESS=PNC Fairfax Connection 8220 Carnegie Avenue Cleveland OH 44103 United States;X-APPLE-RADIUS=500;X-TITLE=8220 Carnegie Avenue:geo:-81.6299203,41.5009711
END:VEVENT
END:VCALENDAR